BEGIN:VCALENDAR
VERSION:2.0
PRODID:-//Atlanta Tamil Mandram - ECPv6.15.20//NONSGML v1.0//EN
CALSCALE:GREGORIAN
METHOD:PUBLISH
X-WR-CALNAME:Atlanta Tamil Mandram
X-ORIGINAL-URL:https://atlantatamilmandram.org
X-WR-CALDESC:Events for Atlanta Tamil Mandram
REFRESH-INTERVAL;VALUE=DURATION:PT1H
X-Robots-Tag:noindex
X-PUBLISHED-TTL:PT1H
BEGIN:VTIMEZONE
TZID:America/New_York
BEGIN:DAYLIGHT
TZOFFSETFROM:-0500
TZOFFSETTO:-0400
TZNAME:EDT
DTSTART:20250309T070000
END:DAYLIGHT
BEGIN:STANDARD
TZOFFSETFROM:-0400
TZOFFSETTO:-0500
TZNAME:EST
DTSTART:20251102T060000
END:STANDARD
BEGIN:DAYLIGHT
TZOFFSETFROM:-0500
TZOFFSETTO:-0400
TZNAME:EDT
DTSTART:20260308T070000
END:DAYLIGHT
BEGIN:STANDARD
TZOFFSETFROM:-0400
TZOFFSETTO:-0500
TZNAME:EST
DTSTART:20261101T060000
END:STANDARD
BEGIN:DAYLIGHT
TZOFFSETFROM:-0500
TZOFFSETTO:-0400
TZNAME:EDT
DTSTART:20270314T070000
END:DAYLIGHT
BEGIN:STANDARD
TZOFFSETFROM:-0400
TZOFFSETTO:-0500
TZNAME:EST
DTSTART:20271107T060000
END:STANDARD
END:VTIMEZONE
BEGIN:VEVENT
DTSTART;TZID=America/New_York:20260502T133000
DTEND;TZID=America/New_York:20260502T223000
DTSTAMP:20260424T072353
CREATED:20260306T050032Z
LAST-MODIFIED:20260306T050032Z
UID:9003241321216080-1777728600-1777761000@atlantatamilmandram.org
SUMMARY:ATM சித்திரைத் திருவிழா 2026
DESCRIPTION:We are excited to invite you for the vibrant ATM Chithirai Thiruvizha\, where tradition\, culture\, and community come together to celebrate Tamil’s New Year festival!\nJoin us for a day of fun-filled celebrations and activities for all ages!
URL:https://atlantatamilmandram.org/event/atm-%e0%ae%9a%e0%ae%bf%e0%ae%a4%e0%af%8d%e0%ae%a4%e0%ae%bf%e0%ae%b0%e0%af%88%e0%ae%a4%e0%af%8d-%e0%ae%a4%e0%ae%bf%e0%ae%b0%e0%af%81%e0%ae%b5%e0%ae%bf%e0%ae%b4%e0%ae%be-2026/
ATTACH;FMTTYPE=image/jpeg:https://atlantatamilmandram.org/wp-content/uploads/2026/03/CT-2026-thumbnail.jpg
END:VEVENT
END:VCALENDAR